BEGIN:VCALENDAR
VERSION:2.0
PRODID:-//eventon.com NONSGML v1.0//EN
CALSCALE:GREGORIAN
METHOD:PUBLISH
BEGIN:VEVENT
UID:69e73efb4e700
DTSTAMP:20260421T091019Z
DTSTART:20260415T133000Z
DTEND:20260415T153000Z
LOCATION:
SUMMARY:Comité de quartier - Vivre ensemble et solidarité
DESCRIPTION:Comité de quartier - Vivre ensemble et solidarité\nhttps://so
 lidaritemercierest.org/events/comite-de-quartier-vivre-ensemble-et-solidari
 te/
URL:https://solidaritemercierest.org/events/comite-de-quartier-vivre-ensemble-et-solidarite/
END:VEVENT
END:VCALENDAR